BEGIN:VCALENDAR
VERSION:2.0
PRODID:-//Rhode Island Firearms Owners&#039; League Civil Defense Fund - ECPv6.15.20//NONSGML v1.0//EN
CALSCALE:GREGORIAN
METHOD:PUBLISH
X-WR-CALNAME:Rhode Island Firearms Owners&#039; League Civil Defense Fund
X-ORIGINAL-URL:https://rifol-cdf.org
X-WR-CALDESC:Events for Rhode Island Firearms Owners&#039; League Civil Defense Fund
REFRESH-INTERVAL;VALUE=DURATION:PT1H
X-Robots-Tag:noindex
X-PUBLISHED-TTL:PT1H
BEGIN:VTIMEZONE
TZID:America/New_York
BEGIN:DAYLIGHT
TZOFFSETFROM:-0500
TZOFFSETTO:-0400
TZNAME:EDT
DTSTART:20190310T070000
END:DAYLIGHT
BEGIN:STANDARD
TZOFFSETFROM:-0400
TZOFFSETTO:-0500
TZNAME:EST
DTSTART:20191103T060000
END:STANDARD
BEGIN:DAYLIGHT
TZOFFSETFROM:-0500
TZOFFSETTO:-0400
TZNAME:EDT
DTSTART:20200308T070000
END:DAYLIGHT
BEGIN:STANDARD
TZOFFSETFROM:-0400
TZOFFSETTO:-0500
TZNAME:EST
DTSTART:20201101T060000
END:STANDARD
BEGIN:DAYLIGHT
TZOFFSETFROM:-0500
TZOFFSETTO:-0400
TZNAME:EDT
DTSTART:20210314T070000
END:DAYLIGHT
BEGIN:STANDARD
TZOFFSETFROM:-0400
TZOFFSETTO:-0500
TZNAME:EST
DTSTART:20211107T060000
END:STANDARD
BEGIN:DAYLIGHT
TZOFFSETFROM:-0500
TZOFFSETTO:-0400
TZNAME:EDT
DTSTART:20220313T070000
END:DAYLIGHT
BEGIN:STANDARD
TZOFFSETFROM:-0400
TZOFFSETTO:-0500
TZNAME:EST
DTSTART:20221106T060000
END:STANDARD
END:VTIMEZONE
BEGIN:VEVENT
DTSTART;TZID=America/New_York:20210610T150000
DTEND;TZID=America/New_York:20210610T190000
DTSTAMP:20260424T124334
CREATED:20210606T224824Z
LAST-MODIFIED:20210606T224824Z
UID:430-1623337200-1623351600@rifol-cdf.org
SUMMARY:RI Rally for our Rights!
DESCRIPTION:This event will be held outside on the Smith Street side of the Statehouse building.\nParking is available on the street\, in the Providence Place Mall parking lot and state employee parking lot (after 4pm). \nBecause this is outside there are no size limits on signs. We encourage everyone to bring signs\, use facts to defend ourselves from the lies. \nAs always\, please be courteous and respectful so we do not feed into the gun grabbers and media agenda. \nLadies and kids…we need you!  The gun grabbers keep using women and children to push their agenda\, exploiting them as victims…. \nRefuse to be a victim! Stand up for your rights! \nPlease call\, email\, and share this event to every firearm owner you know.  This is our one chance to stop this egregious attack on our gun rights! \nDo not let the gun grabbers win based on lies\, distorted data and backroom deals!
URL:https://rifol-cdf.org/index.php/event/ri-rally-for-our-rights/
LOCATION:82 smith street\, providence\, ri
ORGANIZER;CN="RIFOL":MAILTO:info@rifol-cdf.org
END:VEVENT
BEGIN:VEVENT
DTSTART;TZID=America/New_York:20210501T080000
DTEND;TZID=America/New_York:20210501T200000
DTSTAMP:20260424T124334
CREATED:20210425T191150Z
LAST-MODIFIED:20210425T213541Z
UID:405-1619856000-1619899200@rifol-cdf.org
SUMMARY:ATA Trap Shoot (East Warren Rod&Gun)
DESCRIPTION:ATA Trap Shoot at East Warren Rod & Gun Club. \nAmateur Trap Association (ATA) rules will apply and the scores will be included in the official records. \nRegistration starts at 8am and first shots are at 9am. \nBreakfast sandwiches\, hot dogs\, and hamburgers will be for sale in the club house. \n 
URL:https://rifol-cdf.org/index.php/event/east-warren-rod-gun-club-registered-trap-shoot/
LOCATION:East Warren Rod and Gun Club\, 24 Long Land\, Warren\, RI\, 02885\, United States
END:VEVENT
BEGIN:VEVENT
DTSTART;TZID=America/New_York:20210424T080000
DTEND;TZID=America/New_York:20210424T160000
DTSTAMP:20260424T124334
CREATED:20210417T203733Z
LAST-MODIFIED:20210417T205609Z
UID:397-1619251200-1619280000@rifol-cdf.org
SUMMARY:Defensive Carbine I (Spartan)
DESCRIPTION:The AR15/M4 Carbine is much more than just a rifle\, it has become an American icon and symbol of freedom. When utilized properly\, the system is one of the most effective defensive firearms ever created. Its low recoil\, ease of operation and ability to be modified\, make it ideal for all stature of shooters.  Our instructors have decades of experience in not only deploying this weapon system in tactical and SWAT situations but also in actual combat environments.  We have trained law enforcement officers and military members in the effective deployment of the rifle/carbine. This class is designed to give you the basics of the modern manual of arms for the AR15/M4 weapons platform. \nTerms and Conditions: \n1. I understand that payment must be paid in full before the start of a course in order to secure my seat in the course. \n2. I understand that if my performance disrupts others or puts others in danger\, I will be removed from the course and forfeit my registration fee. \n3. I will provide Spartan International Consulting Group with any other relevant information requested from me before the start of the course.  If I do not provide the requested information\, Spartan International Consulting Group has the right to cancel my registration and hold a portion of my registration fee that is deemed appropriate. \n4. I have no criminal history\, mental illness\, substance abuse\, or any other conditions which\, by law\, prohibit me from owning or using a firearm or affect my performance during the training course. \nCANCELLATION POLICY: When one signs up for a class\, and cannot attend\, one is given credit for up to one year from the original class date as long as one notifies Spartan International at least ONE WEEK in advance of the class. Those who have not given at least ONE WEEK of notice or do not show up at the class will lose credit and have to purhcase the class all over again at full original price. If one has a true emergency\, please provide us with documention. PLEASE NOTE THAT WE DO NOT PROVIDE REFUNDS. \nBy purchasing this course\, I hereby declare that the information provided is true and I agree to the terms and conditions provided to me by Spartan International Consulting Group.
URL:https://rifol-cdf.org/index.php/event/spartan/
LOCATION:Tiverton Rod and Gun Club\, 1529 Fish Rd\, Tiverton\, RI\, 02878\, United States
ORGANIZER;CN="SICG":MAILTO:pbrandley@sicg.solutions
END:VEVENT
BEGIN:VEVENT
DTSTART;TZID=America/New_York:20201103T030000
DTEND;TZID=America/New_York:20201103T150000
DTSTAMP:20260424T124334
CREATED:20201216T062810Z
LAST-MODIFIED:20201216T062810Z
UID:361-1604372400-1604415600@rifol-cdf.org
SUMMARY:November 2020 General Election
DESCRIPTION:This is a test event created after the election.
URL:https://rifol-cdf.org/index.php/event/november-2020-general-election/
LOCATION:82 smith street\, providence\, ri
END:VEVENT
END:VCALENDAR